BEGIN:VCALENDAR
PRODID:-//github.com/rianjs/ical.net//NONSGML ical.net 4.0//EN
VERSION:2.0
BEGIN:VTIMEZONE
TZID:Eastern Standard Time
X-LIC-LOCATION:America/New_York
BEGIN:STANDARD
DTSTART:20241103T020000
RRULE:FREQ=YEARLY;BYDAY=1SU;BYMONTH=11
TZNAME:EST
TZOFFSETFROM:-0400
TZOFFSETTO:-0500
END:STANDARD
BEGIN:DAYLIGHT
DTSTART:20250309T020000
RRULE:FREQ=YEARLY;BYDAY=2SU;BYMONTH=3
TZNAME:EDT
TZOFFSETFROM:-0500
TZOFFSETTO:-0400
END:DAYLIGHT
END:VTIMEZONE
BEGIN:VEVENT
DESCRIPTION:SE Turf Rodeo
DTEND;TZID=Eastern Standard Time:20260429T133000
DTSTAMP:20260423T165920Z
DTSTART;TZID=Eastern Standard Time:20260429T073000
LOCATION:Central Broward Park and Broward County Stadium 3700 Northwest 11
 th Place Lauderhill\, FL 33311 United States
ORGANIZER;CN=;SENT-BY="mailto:":
SEQUENCE:0
SUMMARY:FRPA: 2026 SE Park Maintenance Workshop & Skills Challenge
UID:854c2ce6-e5cf-4d76-997e-f64fd30b5216
END:VEVENT
END:VCALENDAR
